BEGIN:VCALENDAR
VERSION:2.0
PRODID:-//Tukios.com/
BEGIN:VEVENT
UID:aee3c8c7-5c39-4dd2-98ee-cb3bc794f7b0@www.jmdunbar.com
DTSTAMP:20260422T230042Z
DTSTART:20260508T180000Z
DTEND:20260508T190000Z
SUMMARY:Funeral Service
DESCRIPTION:
URL:https://www.jmdunbar.com/obituaries/carol-corson
LOCATION:Jesus Our Risen Savior Catholic Church 2575 Reidville Road  
	Spartanburg SC 29301
GEO:34.9171753;-81.9984312
END:VEVENT
END:VCALENDAR